BEGIN:VCALENDAR
VERSION:2.0
PRODID:-//eventon.com NONSGML v1.0//EN
CALSCALE:GREGORIAN
METHOD:PUBLISH
BEGIN:VEVENT
UID:69e9d5c84a823
DTSTAMP:20260423T081816Z
DTSTART:20260503T090000Z
DTEND:20260503T235900Z
LOCATION:Sonesta Hotel 66 Hale Avenue
SUMMARY:Ecumenical Breakfast
DESCRIPTION:Join us for the NABSE Notable Northeast Region Ecumenical Break
 fast\,  a special gathering of fellowship\,  inspiration\,  and celebration
 . This meaningful morning event will bring together educators\,  leaders\, 
  and community members to share in a spirit of unity and reflection. Attend
 ees will enjoy a delicious breakfast while engaging in uplifting music\, [.
 .]\nhttps://nabsener.org/events/ecumenical-breakfast/
URL:https://nabsener.org/events/ecumenical-breakfast/
END:VEVENT
END:VCALENDAR